BEGIN:VCALENDAR
VERSION:2.0
PRODID:-//Official AFLO Website of the Toronto Eagles - ECPv6.15.18//NONSGML v1.0//EN
CALSCALE:GREGORIAN
METHOD:PUBLISH
X-WR-CALNAME:Official AFLO Website of the Toronto Eagles
X-ORIGINAL-URL:https://www.eaglesafc.ca
X-WR-CALDESC:Events for Official AFLO Website of the Toronto Eagles
REFRESH-INTERVAL;VALUE=DURATION:PT1H
X-Robots-Tag:noindex
X-PUBLISHED-TTL:PT1H
BEGIN:VTIMEZONE
TZID:America/Toronto
BEGIN:DAYLIGHT
TZOFFSETFROM:-0500
TZOFFSETTO:-0400
TZNAME:EDT
DTSTART:20230312T070000
END:DAYLIGHT
BEGIN:STANDARD
TZOFFSETFROM:-0400
TZOFFSETTO:-0500
TZNAME:EST
DTSTART:20231105T060000
END:STANDARD
BEGIN:DAYLIGHT
TZOFFSETFROM:-0500
TZOFFSETTO:-0400
TZNAME:EDT
DTSTART:20240310T070000
END:DAYLIGHT
BEGIN:STANDARD
TZOFFSETFROM:-0400
TZOFFSETTO:-0500
TZNAME:EST
DTSTART:20241103T060000
END:STANDARD
BEGIN:DAYLIGHT
TZOFFSETFROM:-0500
TZOFFSETTO:-0400
TZNAME:EDT
DTSTART:20250309T070000
END:DAYLIGHT
BEGIN:STANDARD
TZOFFSETFROM:-0400
TZOFFSETTO:-0500
TZNAME:EST
DTSTART:20251102T060000
END:STANDARD
END:VTIMEZONE
BEGIN:VEVENT
DTSTART;VALUE=DATE:20240629
DTEND;VALUE=DATE:20240630
DTSTAMP:20260421T102841
CREATED:20241116T044505Z
LAST-MODIFIED:20241116T044505Z
UID:9179-1719619200-1719705599@www.eaglesafc.ca
SUMMARY:2025 AFL Ontario Season Rd 1
DESCRIPTION:Round 1 of the 2025 AFL Ontario Season
URL:https://www.eaglesafc.ca/event/2025-afl-ontario-season-rd-1
LOCATION:Humber College Australian Football Field\, 27 Colonel Samuel Smith Park Dr\, Etobicoke\, Ontario\, M8V 4B6\, Canada
END:VEVENT
END:VCALENDAR