BEGIN:VCALENDAR
VERSION:2.0
PRODID:-//Official AFLO Website of the Toronto Eagles - ECPv6.15.18//NONSGML v1.0//EN
CALSCALE:GREGORIAN
METHOD:PUBLISH
X-ORIGINAL-URL:https://www.eaglesafc.ca
X-WR-CALDESC:Events for Official AFLO Website of the Toronto Eagles
REFRESH-INTERVAL;VALUE=DURATION:PT1H
X-Robots-Tag:noindex
X-PUBLISHED-TTL:PT1H
BEGIN:VTIMEZONE
TZID:America/Toronto
BEGIN:DAYLIGHT
TZOFFSETFROM:-0500
TZOFFSETTO:-0400
TZNAME:EDT
DTSTART:20240310T070000
END:DAYLIGHT
BEGIN:STANDARD
TZOFFSETFROM:-0400
TZOFFSETTO:-0500
TZNAME:EST
DTSTART:20241103T060000
END:STANDARD
BEGIN:DAYLIGHT
TZOFFSETFROM:-0500
TZOFFSETTO:-0400
TZNAME:EDT
DTSTART:20250309T070000
END:DAYLIGHT
BEGIN:STANDARD
TZOFFSETFROM:-0400
TZOFFSETTO:-0500
TZNAME:EST
DTSTART:20251102T060000
END:STANDARD
BEGIN:DAYLIGHT
TZOFFSETFROM:-0500
TZOFFSETTO:-0400
TZNAME:EDT
DTSTART:20260308T070000
END:DAYLIGHT
BEGIN:STANDARD
TZOFFSETFROM:-0400
TZOFFSETTO:-0500
TZNAME:EST
DTSTART:20261101T060000
END:STANDARD
BEGIN:DAYLIGHT
TZOFFSETFROM:-0500
TZOFFSETTO:-0400
TZNAME:EDT
DTSTART:20270314T070000
END:DAYLIGHT
BEGIN:STANDARD
TZOFFSETFROM:-0400
TZOFFSETTO:-0500
TZNAME:EST
DTSTART:20271107T060000
END:STANDARD
END:VTIMEZONE
BEGIN:VEVENT
DTSTART;TZID=America/Toronto:20250809T120000
DTEND;TZID=America/Toronto:20250809T160000
DTSTAMP:20260420T122029
CREATED:20250719T010150Z
LAST-MODIFIED:20250719T011004Z
UID:10084-1754740800-1754755200@www.eaglesafc.ca
SUMMARY:Toronto Eagles Annual Family Day
DESCRIPTION:Get ready for one of the most exciting events of the season\, our annual Toronto Eagles Family Day is just around the corner\, and you won’t want to miss it! \nJoin us for a full day of footy\, community\, and fun as the Toronto Eagles go head-to-head with longtime rivals\, the High Park Demons\, in a can’t-miss matchup. This is more than just a game\, it’s a chance for families\, friends\, and fans of all ages to come together and celebrate everything that makes our club special. \nBring your lawn chairs\, your team colours\, and your loudest cheers as we fill the sidelines and show our Eagles some serious support. There will be snacks and refreshments\, and a great atmosphere for connecting with fellow members of our growing footy community. \nWhether you’re a player\, a parent\, a supporter\, or someone just discovering the sport\, Family Day is the perfect time to experience the energy and passion of local Aussie Rules Football. So mark your calendars\, gather your crew\, and make it a day out with the Eagles. \nLet’s come together\, lift our voices\, and show the Demons what home-ground pride looks like.We’ll see you there\, Go Eagles! 🦅 \n  \n \n  \n 
URL:https://www.eaglesafc.ca/event/toronto-eagles-annual-family-day-2
LOCATION:Humber College Australian Football Field\, 27 Colonel Samuel Smith Park Dr\, Etobicoke\, Ontario\, M8V 4B6\, Canada
CATEGORIES:Club Events
ATTACH;FMTTYPE=image/png:https://www.eaglesafc.ca/wp-content/uploads/2024/07/Eagles-Family-Day-Flyer.png
END:VEVENT
BEGIN:VEVENT
DTSTART;TZID=America/Toronto:20251129T190000
DTEND;TZID=America/Toronto:20251129T230000
DTSTAMP:20260420T122029
CREATED:20251129T211706Z
LAST-MODIFIED:20251129T211706Z
UID:10253-1764442800-1764457200@www.eaglesafc.ca
SUMMARY:2025 Toronto Eagles Australian Football Club Annual Awards Gala
DESCRIPTION:Join us for a memorable night as the Toronto Eagles Australian Football Club hosts its 2025 Annual Awards Gala on November 29. Held at the Lucky Clover Irish Sports Pub\, and proudly sponsored by Vision Glass\, the evening promises to be a grand celebration of the club’s achievements throughout the year. Kicking off at 7:00 pm\, the event will honor outstanding player performances with a range of awards\, including Best and Fairest\, Rookie\, and Clubman of the Year. \nA highlight of the night will be the prestigious Hall of Fame inductions\, recognizing individuals who have made lasting contributions both on and off the field. The gala will offer a chance for the Eagles community to come together\, enjoy good food\, drinks\, and entertainment\, and reflect on the highlights of the season. Don’t miss this opportunity to be part of a special night in the club’s history!
URL:https://www.eaglesafc.ca/event/2025-toronto-eagles-australian-football-club-annual-awards-gala
LOCATION:Lucky Clover Irish Sports Pub\, 17 Lower Simcoe St\, TORONTO\, Ontario\, M5V 3L9\, Canada
ATTACH;FMTTYPE=image/png:https://www.eaglesafc.ca/wp-content/uploads/2024/09/2024-TE-Awards-Header.png
END:VEVENT
BEGIN:VEVENT
DTSTART;TZID=America/Toronto:20260329T080000
DTEND;TZID=America/Toronto:20260329T090000
DTSTAMP:20260420T122029
CREATED:20260319T020040Z
LAST-MODIFIED:20260329T025204Z
UID:10266-1774771200-1774774800@www.eaglesafc.ca
SUMMARY:Pre-season Training Session
DESCRIPTION:Next pre-season date as follows: Inviting all potential new players and friends to our session on Sunday March 29 as we build towards a big year ahead! 🦅
URL:https://www.eaglesafc.ca/event/pre-season-training-session
LOCATION:Jam Sportsplex\, 176 Cherry St\, Toronto\, Ontario\, M5A 3L2\, Canada
ATTACH;FMTTYPE=image/png:https://www.eaglesafc.ca/wp-content/uploads/2026/03/Preseason-training.png
END:VEVENT
END:VCALENDAR