BEGIN:VCALENDAR
VERSION:2.0
PRODID:-//Official AFLO Website of the Toronto Eagles - ECPv6.15.18//NONSGML v1.0//EN
CALSCALE:GREGORIAN
METHOD:PUBLISH
X-ORIGINAL-URL:https://www.eaglesafc.ca
X-WR-CALDESC:Events for Official AFLO Website of the Toronto Eagles
REFRESH-INTERVAL;VALUE=DURATION:PT1H
X-Robots-Tag:noindex
X-PUBLISHED-TTL:PT1H
BEGIN:VTIMEZONE
TZID:America/Toronto
BEGIN:DAYLIGHT
TZOFFSETFROM:-0500
TZOFFSETTO:-0400
TZNAME:EDT
DTSTART:20230312T070000
END:DAYLIGHT
BEGIN:STANDARD
TZOFFSETFROM:-0400
TZOFFSETTO:-0500
TZNAME:EST
DTSTART:20231105T060000
END:STANDARD
BEGIN:DAYLIGHT
TZOFFSETFROM:-0500
TZOFFSETTO:-0400
TZNAME:EDT
DTSTART:20240310T070000
END:DAYLIGHT
BEGIN:STANDARD
TZOFFSETFROM:-0400
TZOFFSETTO:-0500
TZNAME:EST
DTSTART:20241103T060000
END:STANDARD
BEGIN:DAYLIGHT
TZOFFSETFROM:-0500
TZOFFSETTO:-0400
TZNAME:EDT
DTSTART:20250309T070000
END:DAYLIGHT
BEGIN:STANDARD
TZOFFSETFROM:-0400
TZOFFSETTO:-0500
TZNAME:EST
DTSTART:20251102T060000
END:STANDARD
END:VTIMEZONE
BEGIN:VEVENT
DTSTART;TZID=America/Toronto:20241109T190000
DTEND;TZID=America/Toronto:20241109T190000
DTSTAMP:20260421T010006
CREATED:20240907T001816Z
LAST-MODIFIED:20240916T180451Z
UID:7728-1731178800-1731178800@www.eaglesafc.ca
SUMMARY:2024 Toronto Eagles Australian Football Club Annual Awards Gala
DESCRIPTION:Join us for a memorable night as the Toronto Eagles Australian Football Club hosts its 2024 Annual Awards Gala on November 9. Held at the Lucky Clover Irish Sports Pub\, and proudly sponsored by Vision Glass\, the evening promises to be a grand celebration of the club’s achievements throughout the year. Kicking off at 7:00 pm\, the event will honor outstanding player performances with a range of awards\, including Best and Fairest\, Rookie\, and Clubman of the Year. \nA highlight of the night will be the prestigious Hall of Fame inductions\, recognizing individuals who have made lasting contributions both on and off the field. The gala will offer a chance for the Eagles community to come together\, enjoy good food\, drinks\, and entertainment\, and reflect on the highlights of the season. Don’t miss this opportunity to be part of a special night in the club’s history!
URL:https://www.eaglesafc.ca/event/2024-toronto-eagles-australian-football-club-awards-gala
LOCATION:Lucky Clover Irish Sports Pub\, 17 Lower Simcoe St\, TORONTO\, Ontario\, M5V 3L9\, Canada
ATTACH;FMTTYPE=image/png:https://www.eaglesafc.ca/wp-content/uploads/2024/09/2024-TE-Awards-Header.png
END:VEVENT
BEGIN:VEVENT
DTSTART;TZID=America/Toronto:20241125T130000
DTEND;TZID=America/Toronto:20241125T180000
DTSTAMP:20260421T010006
CREATED:20241116T022145Z
LAST-MODIFIED:20241116T022522Z
UID:9171-1732539600-1732557600@www.eaglesafc.ca
SUMMARY:Team Get Together
DESCRIPTION:Come join us for a few drinks\, sports and catch-up at the Greedy Goose on Sunday\, November 25th.
URL:https://www.eaglesafc.ca/event/team-get-together
LOCATION:Greedy Goose\, 803 King St W\, Toronto\, On\, M5V 1N4\, Canada
CATEGORIES:Club Events
ATTACH;FMTTYPE=image/png:https://www.eaglesafc.ca/wp-content/uploads/2023/06/2023_Toronto-Eagles.png
END:VEVENT
END:VCALENDAR